BEGIN:VCALENDAR
VERSION:2.0
PRODID:-//Riverside Primary School - ECPv6.15.20//NONSGML v1.0//EN
CALSCALE:GREGORIAN
METHOD:PUBLISH
X-ORIGINAL-URL:https://riversideps.wa.edu.au
X-WR-CALDESC:Events for Riverside Primary School
REFRESH-INTERVAL;VALUE=DURATION:PT1H
X-Robots-Tag:noindex
X-PUBLISHED-TTL:PT1H
BEGIN:VTIMEZONE
TZID:Australia/Perth
BEGIN:STANDARD
TZOFFSETFROM:+0800
TZOFFSETTO:+0800
TZNAME:AWST
DTSTART:20250101T000000
END:STANDARD
END:VTIMEZONE
BEGIN:VEVENT
DTSTART;TZID=Australia/Perth:20260619T084500
DTEND;TZID=Australia/Perth:20260619T093000
DTSTAMP:20260426T120456
CREATED:20260421T043508Z
LAST-MODIFIED:20260421T043508Z
UID:3070-1781858700-1781861400@riversideps.wa.edu.au
SUMMARY:Assembly ESC
DESCRIPTION:
URL:https://riversideps.wa.edu.au/event/assembly-esc/
CATEGORIES:Assembly
END:VEVENT
END:VCALENDAR