BEGIN:VCALENDAR
VERSION:2.0
PRODID:-//Riverside Primary School - ECPv6.15.20//NONSGML v1.0//EN
CALSCALE:GREGORIAN
METHOD:PUBLISH
X-WR-CALNAME:Riverside Primary School
X-ORIGINAL-URL:https://riversideps.wa.edu.au
X-WR-CALDESC:Events for Riverside Primary School
REFRESH-INTERVAL;VALUE=DURATION:PT1H
X-Robots-Tag:noindex
X-PUBLISHED-TTL:PT1H
BEGIN:VTIMEZONE
TZID:Australia/Perth
BEGIN:STANDARD
TZOFFSETFROM:+0800
TZOFFSETTO:+0800
TZNAME:AWST
DTSTART:20220101T000000
END:STANDARD
END:VTIMEZONE
BEGIN:VEVENT
DTSTART;TZID=Australia/Perth:20260424T133000
DTEND;TZID=Australia/Perth:20260424T143000
DTSTAMP:20260426T120413
CREATED:20260421T043152Z
LAST-MODIFIED:20260421T043152Z
UID:3062-1777037400-1777041000@riversideps.wa.edu.au
SUMMARY:ANZAC assemby
DESCRIPTION:
URL:https://riversideps.wa.edu.au/event/anzac-assemby/
CATEGORIES:Assembly
END:VEVENT
BEGIN:VEVENT
DTSTART;TZID=Australia/Perth:20250516T084500
DTEND;TZID=Australia/Perth:20250516T093000
DTSTAMP:20260426T120413
CREATED:20250310T065423Z
LAST-MODIFIED:20250310T065423Z
UID:2830-1747385100-1747387800@riversideps.wa.edu.au
SUMMARY:Assembly
DESCRIPTION:
URL:https://riversideps.wa.edu.au/event/assembly-2/
CATEGORIES:Assembly
END:VEVENT
BEGIN:VEVENT
DTSTART;TZID=Australia/Perth:20250410T090000
DTEND;TZID=Australia/Perth:20250410T100000
DTSTAMP:20260426T120413
CREATED:20250407T040950Z
LAST-MODIFIED:20250407T040950Z
UID:2856-1744275600-1744279200@riversideps.wa.edu.au
SUMMARY:2025 ANZAC Assembly
DESCRIPTION:
URL:https://riversideps.wa.edu.au/event/2025-anzac-assembly/
CATEGORIES:Assembly
END:VEVENT
BEGIN:VEVENT
DTSTART;TZID=Australia/Perth:20250404T084500
DTEND;TZID=Australia/Perth:20250404T093000
DTSTAMP:20260426T120413
CREATED:20250212T043029Z
LAST-MODIFIED:20250212T043029Z
UID:2747-1743756300-1743759000@riversideps.wa.edu.au
SUMMARY:Assembly
DESCRIPTION:
URL:https://riversideps.wa.edu.au/event/assembly-3/
CATEGORIES:Assembly
END:VEVENT
BEGIN:VEVENT
DTSTART;TZID=Australia/Perth:20250328T084500
DTEND;TZID=Australia/Perth:20250328T093000
DTSTAMP:20260426T120413
CREATED:20250310T043048Z
LAST-MODIFIED:20250310T043145Z
UID:2826-1743151500-1743154200@riversideps.wa.edu.au
SUMMARY:Assembly
DESCRIPTION:
URL:https://riversideps.wa.edu.au/event/assembley/
CATEGORIES:Assembly
END:VEVENT
BEGIN:VEVENT
DTSTART;TZID=Australia/Perth:20250227T084500
DTEND;TZID=Australia/Perth:20250227T093000
DTSTAMP:20260426T120413
CREATED:20250212T042552Z
LAST-MODIFIED:20250219T010956Z
UID:2743-1740645900-1740648600@riversideps.wa.edu.au
SUMMARY:Assembly
DESCRIPTION:
URL:https://riversideps.wa.edu.au/event/assembly/
CATEGORIES:Assembly
END:VEVENT
BEGIN:VEVENT
DTSTART;TZID=Australia/Perth:20241211T090000
DTEND;TZID=Australia/Perth:20241211T103000
DTSTAMP:20260426T120413
CREATED:20240605T061156Z
LAST-MODIFIED:20240605T061318Z
UID:2513-1733907600-1733913000@riversideps.wa.edu.au
SUMMARY:Presentation Assembly
DESCRIPTION:
URL:https://riversideps.wa.edu.au/event/presentation-assembly-2/
CATEGORIES:Assembly
END:VEVENT
BEGIN:VEVENT
DTSTART;TZID=Australia/Perth:20241206T084500
DTEND;TZID=Australia/Perth:20241206T093000
DTSTAMP:20260426T120413
CREATED:20240215T070942Z
LAST-MODIFIED:20240215T070942Z
UID:2233-1733474700-1733477400@riversideps.wa.edu.au
SUMMARY:Assembly - Room 15\, 16
DESCRIPTION:
URL:https://riversideps.wa.edu.au/event/assembly-room-15-16/
CATEGORIES:Assembly
END:VEVENT
BEGIN:VEVENT
DTSTART;TZID=Australia/Perth:20241115T084500
DTEND;TZID=Australia/Perth:20241115T093000
DTSTAMP:20260426T120413
CREATED:20240215T070821Z
LAST-MODIFIED:20240215T071037Z
UID:2231-1731660300-1731663000@riversideps.wa.edu.au
SUMMARY:Assembly - Indonesian Dance
DESCRIPTION:
URL:https://riversideps.wa.edu.au/event/assembly-indonesian-dance/
CATEGORIES:Assembly
END:VEVENT
BEGIN:VEVENT
DTSTART;TZID=Australia/Perth:20241025T084500
DTEND;TZID=Australia/Perth:20241025T093000
DTSTAMP:20260426T120413
CREATED:20240215T070743Z
LAST-MODIFIED:20240215T070743Z
UID:2229-1729845900-1729848600@riversideps.wa.edu.au
SUMMARY:Assembly - Room 12\, 13\, 14
DESCRIPTION:
URL:https://riversideps.wa.edu.au/event/assembly-room-12-13-14/
CATEGORIES:Assembly
END:VEVENT
BEGIN:VEVENT
DTSTART;TZID=Australia/Perth:20240920T084500
DTEND;TZID=Australia/Perth:20240920T093000
DTSTAMP:20260426T120413
CREATED:20240215T070533Z
LAST-MODIFIED:20240909T065208Z
UID:2223-1726821900-1726824600@riversideps.wa.edu.au
SUMMARY:Assembly - Room 35\, 19\, 37\, 10 \,11
DESCRIPTION:
URL:https://riversideps.wa.edu.au/event/assembly-room-35-19-37-10-11/
CATEGORIES:Assembly
END:VEVENT
BEGIN:VEVENT
DTSTART;TZID=Australia/Perth:20240830T084500
DTEND;TZID=Australia/Perth:20240830T093000
DTSTAMP:20260426T120413
CREATED:20240215T070436Z
LAST-MODIFIED:20240716T064549Z
UID:2221-1725007500-1725010200@riversideps.wa.edu.au
SUMMARY:Assembly - Room 5\, 6
DESCRIPTION:
URL:https://riversideps.wa.edu.au/event/assembly-room-5-6/
CATEGORIES:Assembly
END:VEVENT
BEGIN:VEVENT
DTSTART;TZID=Australia/Perth:20240802T084500
DTEND;TZID=Australia/Perth:20240802T093000
DTSTAMP:20260426T120413
CREATED:20240215T070342Z
LAST-MODIFIED:20240716T064451Z
UID:2219-1722588300-1722591000@riversideps.wa.edu.au
SUMMARY:Assembly
DESCRIPTION:
URL:https://riversideps.wa.edu.au/event/assembly-room-2-3/
CATEGORIES:Assembly
END:VEVENT
BEGIN:VEVENT
DTSTART;TZID=Australia/Perth:20240628T084500
DTEND;TZID=Australia/Perth:20240628T093000
DTSTAMP:20260426T120413
CREATED:20240215T070105Z
LAST-MODIFIED:20240328T011713Z
UID:2211-1719564300-1719567000@riversideps.wa.edu.au
SUMMARY:Assembly - Performing Arts
DESCRIPTION:
URL:https://riversideps.wa.edu.au/event/assembly-performing-arts/
CATEGORIES:Assembly
END:VEVENT
BEGIN:VEVENT
DTSTART;TZID=Australia/Perth:20240607T084500
DTEND;TZID=Australia/Perth:20240607T093000
DTSTAMP:20260426T120413
CREATED:20240215T070013Z
LAST-MODIFIED:20240328T011506Z
UID:2209-1717749900-1717752600@riversideps.wa.edu.au
SUMMARY:Assembly - Room 7
DESCRIPTION:
URL:https://riversideps.wa.edu.au/event/assembly-room-7/
CATEGORIES:Assembly
END:VEVENT
BEGIN:VEVENT
DTSTART;TZID=Australia/Perth:20240510T084500
DTEND;TZID=Australia/Perth:20240510T093000
DTSTAMP:20260426T120413
CREATED:20240215T065919Z
LAST-MODIFIED:20240328T011320Z
UID:2207-1715330700-1715333400@riversideps.wa.edu.au
SUMMARY:Assembly - Room 8\, 9
DESCRIPTION:
URL:https://riversideps.wa.edu.au/event/assembly-room-8-9/
CATEGORIES:Assembly
END:VEVENT
BEGIN:VEVENT
DTSTART;TZID=Australia/Perth:20240328T084500
DTEND;TZID=Australia/Perth:20240328T093000
DTSTAMP:20260426T120413
CREATED:20240215T065129Z
LAST-MODIFIED:20240215T065544Z
UID:2196-1711615500-1711618200@riversideps.wa.edu.au
SUMMARY:Easter Assembly
DESCRIPTION:
URL:https://riversideps.wa.edu.au/event/easter-assembly/
CATEGORIES:Assembly
END:VEVENT
BEGIN:VEVENT
DTSTART;TZID=Australia/Perth:20240308T084500
DTEND;TZID=Australia/Perth:20240308T093000
DTSTAMP:20260426T120413
CREATED:20240215T065009Z
LAST-MODIFIED:20240215T065521Z
UID:2194-1709887500-1709890200@riversideps.wa.edu.au
SUMMARY:School Assembly - Room 4\, 33\, 36
DESCRIPTION:
URL:https://riversideps.wa.edu.au/event/school-assembly-room-4-33-36/
CATEGORIES:Assembly
END:VEVENT
BEGIN:VEVENT
DTSTART;TZID=Australia/Perth:20240216T084500
DTEND;TZID=Australia/Perth:20240216T093000
DTSTAMP:20260426T120413
CREATED:20240215T064905Z
LAST-MODIFIED:20240215T065436Z
UID:2192-1708073100-1708075800@riversideps.wa.edu.au
SUMMARY:School Assembly - Room 17\, 18\, 20
DESCRIPTION:
URL:https://riversideps.wa.edu.au/event/school-assembly-room-171820/
CATEGORIES:Assembly
END:VEVENT
BEGIN:VEVENT
DTSTART;TZID=Australia/Perth:20231201T090000
DTEND;TZID=Australia/Perth:20231201T093000
DTSTAMP:20260426T120413
CREATED:20230622T013425Z
LAST-MODIFIED:20230622T013425Z
UID:1848-1701421200-1701423000@riversideps.wa.edu.au
SUMMARY:School Assembly
DESCRIPTION:
URL:https://riversideps.wa.edu.au/event/school-assembly-14/
CATEGORIES:Assembly
END:VEVENT
BEGIN:VEVENT
DTSTART;TZID=Australia/Perth:20231117T090000
DTEND;TZID=Australia/Perth:20231117T093000
DTSTAMP:20260426T120413
CREATED:20230622T013343Z
LAST-MODIFIED:20230622T013343Z
UID:1846-1700211600-1700213400@riversideps.wa.edu.au
SUMMARY:School Assembly
DESCRIPTION:
URL:https://riversideps.wa.edu.au/event/school-assembly-13/
CATEGORIES:Assembly
END:VEVENT
BEGIN:VEVENT
DTSTART;TZID=Australia/Perth:20231103T090000
DTEND;TZID=Australia/Perth:20231103T093000
DTSTAMP:20260426T120413
CREATED:20230622T013306Z
LAST-MODIFIED:20230622T013306Z
UID:1844-1699002000-1699003800@riversideps.wa.edu.au
SUMMARY:School Assembly
DESCRIPTION:
URL:https://riversideps.wa.edu.au/event/school-assembly-12/
CATEGORIES:Assembly
END:VEVENT
BEGIN:VEVENT
DTSTART;TZID=Australia/Perth:20231020T090000
DTEND;TZID=Australia/Perth:20231020T093000
DTSTAMP:20260426T120413
CREATED:20230622T013232Z
LAST-MODIFIED:20230622T013232Z
UID:1842-1697792400-1697794200@riversideps.wa.edu.au
SUMMARY:School Assembly
DESCRIPTION:
URL:https://riversideps.wa.edu.au/event/school-assembly-11/
CATEGORIES:Assembly
END:VEVENT
BEGIN:VEVENT
DTSTART;TZID=Australia/Perth:20230922T090000
DTEND;TZID=Australia/Perth:20230922T093000
DTSTAMP:20260426T120413
CREATED:20230622T012825Z
LAST-MODIFIED:20230622T012825Z
UID:1839-1695373200-1695375000@riversideps.wa.edu.au
SUMMARY:School Assembly
DESCRIPTION:
URL:https://riversideps.wa.edu.au/event/school-assembly-10/
CATEGORIES:Assembly
END:VEVENT
BEGIN:VEVENT
DTSTART;TZID=Australia/Perth:20230908T090000
DTEND;TZID=Australia/Perth:20230908T093000
DTSTAMP:20260426T120413
CREATED:20230622T012743Z
LAST-MODIFIED:20230622T012743Z
UID:1837-1694163600-1694165400@riversideps.wa.edu.au
SUMMARY:School Assembly
DESCRIPTION:
URL:https://riversideps.wa.edu.au/event/school-assembly-9/
CATEGORIES:Assembly
END:VEVENT
BEGIN:VEVENT
DTSTART;TZID=Australia/Perth:20230825T090000
DTEND;TZID=Australia/Perth:20230825T093000
DTSTAMP:20260426T120413
CREATED:20230622T012713Z
LAST-MODIFIED:20230622T012713Z
UID:1835-1692954000-1692955800@riversideps.wa.edu.au
SUMMARY:School Assembly
DESCRIPTION:
URL:https://riversideps.wa.edu.au/event/school-assembly-8/
CATEGORIES:Assembly
END:VEVENT
BEGIN:VEVENT
DTSTART;TZID=Australia/Perth:20230811T090000
DTEND;TZID=Australia/Perth:20230811T093000
DTSTAMP:20260426T120413
CREATED:20230622T012619Z
LAST-MODIFIED:20230622T012619Z
UID:1833-1691744400-1691746200@riversideps.wa.edu.au
SUMMARY:School Assembly
DESCRIPTION:
URL:https://riversideps.wa.edu.au/event/school-assembly-7/
CATEGORIES:Assembly
END:VEVENT
BEGIN:VEVENT
DTSTART;TZID=Australia/Perth:20230728T090000
DTEND;TZID=Australia/Perth:20230728T093000
DTSTAMP:20260426T120413
CREATED:20230622T012222Z
LAST-MODIFIED:20230622T012500Z
UID:1829-1690534800-1690536600@riversideps.wa.edu.au
SUMMARY:School Assembly
DESCRIPTION:
URL:https://riversideps.wa.edu.au/event/school-assembly-2/
CATEGORIES:Assembly
END:VEVENT
BEGIN:VEVENT
DTSTART;TZID=Australia/Perth:20230630T090000
DTEND;TZID=Australia/Perth:20230630T093000
DTSTAMP:20260426T120413
CREATED:20230406T061747Z
LAST-MODIFIED:20230406T061747Z
UID:1491-1688115600-1688117400@riversideps.wa.edu.au
SUMMARY:School Assembly
DESCRIPTION:
URL:https://riversideps.wa.edu.au/event/school-assembly-5/
CATEGORIES:Assembly
END:VEVENT
BEGIN:VEVENT
DTSTART;TZID=Australia/Perth:20230616T090000
DTEND;TZID=Australia/Perth:20230616T093000
DTSTAMP:20260426T120413
CREATED:20230406T061650Z
LAST-MODIFIED:20230406T061650Z
UID:1489-1686906000-1686907800@riversideps.wa.edu.au
SUMMARY:School Assembly
DESCRIPTION:
URL:https://riversideps.wa.edu.au/event/school-assembly-4/
CATEGORIES:Assembly
END:VEVENT
END:VCALENDAR