BEGIN:VCALENDAR
VERSION:2.0
PRODID:-//Riverside Primary School - ECPv6.15.20//NONSGML v1.0//EN
CALSCALE:GREGORIAN
METHOD:PUBLISH
X-WR-CALNAME:Riverside Primary School
X-ORIGINAL-URL:https://riversideps.wa.edu.au
X-WR-CALDESC:Events for Riverside Primary School
REFRESH-INTERVAL;VALUE=DURATION:PT1H
X-Robots-Tag:noindex
X-PUBLISHED-TTL:PT1H
BEGIN:VTIMEZONE
TZID:Australia/Perth
BEGIN:STANDARD
TZOFFSETFROM:+0800
TZOFFSETTO:+0800
TZNAME:AWST
DTSTART:20250101T000000
END:STANDARD
END:VTIMEZONE
BEGIN:VEVENT
DTSTART;TZID=Australia/Perth:20260428T080000
DTEND;TZID=Australia/Perth:20260428T170000
DTSTAMP:20260425T214740
CREATED:20260421T042454Z
LAST-MODIFIED:20260421T043710Z
UID:3056-1777363200-1777395600@riversideps.wa.edu.au
SUMMARY:Staff Development Day - No Students
DESCRIPTION:
URL:https://riversideps.wa.edu.au/event/pupil-free-day/
CATEGORIES:School Events
END:VEVENT
BEGIN:VEVENT
DTSTART;TZID=Australia/Perth:20260504T110000
DTEND;TZID=Australia/Perth:20260504T130000
DTSTAMP:20260425T214740
CREATED:20260421T042646Z
LAST-MODIFIED:20260421T043101Z
UID:3058-1777892400-1777899600@riversideps.wa.edu.au
SUMMARY:Coodanup Year 6 taster
DESCRIPTION:
URL:https://riversideps.wa.edu.au/event/anzac-assembly/
CATEGORIES:School Events
END:VEVENT
BEGIN:VEVENT
DTSTART;TZID=Australia/Perth:20260811T090000
DTEND;TZID=Australia/Perth:20260811T123000
DTSTAMP:20260425T214740
CREATED:20260421T045355Z
LAST-MODIFIED:20260421T045401Z
UID:3108-1786438800-1786451400@riversideps.wa.edu.au
SUMMARY:Coodanup Year 6 half day
DESCRIPTION:
URL:https://riversideps.wa.edu.au/event/coodanup-year-6-half-day/
CATEGORIES:School Events
END:VEVENT
BEGIN:VEVENT
DTSTART;TZID=Australia/Perth:20261104T080000
DTEND;TZID=Australia/Perth:20261106T150000
DTSTAMP:20260425T214740
CREATED:20260421T045129Z
LAST-MODIFIED:20260421T045129Z
UID:3102-1793779200-1793977200@riversideps.wa.edu.au
SUMMARY:Year 6 Camp
DESCRIPTION:
URL:https://riversideps.wa.edu.au/event/year-6-camp-3/
CATEGORIES:School Events
END:VEVENT
BEGIN:VEVENT
DTSTART;TZID=Australia/Perth:20261124T084500
DTEND;TZID=Australia/Perth:20261124T150000
DTSTAMP:20260425T214740
CREATED:20260421T045249Z
LAST-MODIFIED:20260421T045256Z
UID:3106-1795509900-1795532400@riversideps.wa.edu.au
SUMMARY:Coodanup Orientation day
DESCRIPTION:
URL:https://riversideps.wa.edu.au/event/coodanup-orientation-day/
CATEGORIES:School Events
END:VEVENT
END:VCALENDAR